BEGIN:VCALENDAR
VERSION:2.0
METHOD:PUBLISH
PRODID:-//Agenda.ad//NONSGML v1.0//EN
BEGIN:VEVENT
CLASS:PUBLIC
UID:720f0df87fcd25b7b005ac4777e06428@agenda.ad
DTSTAMP:20260419T164138Z
DTSTART:20171004T220000Z
DTEND:20171004T220000Z
SUMMARY:<span class="A15"><span class="A15"><span class="A15"><span class="A15"><span lang="CA">Saison Culturelle 2017.&nbsp;<strong>Triwap</strong></span></span></span></span></span>
DESCRIPTION:\n\nMés informació\nhttps://www.agenda.ad/activitat/andorr
 a-la-vella/mes-cultura/saison-culturelle-2017 triwap\n\n\nO
 rganitza\nAmbaixada de França a Andorra
LOCATION:Teatre Comunal
SEQUENCE:0
TRANSP:OPAQUE
X-ALT-DESC;FMTTYPE=text/html:<!DOCTYPE HTML PUBLIC "-//W3C//DTD HTML 3.2//EN"><HTML><HEAD
 ><TITLE></TITLE></HEAD><BODY><FONT FACE="Arial" SIZE=2><br/>
 <br/><b>Més informació</b><br/><a href="https://www.agenda
 .ad/activitat/andorra-la-vella/mes-cultura/saison-culturelle
 -2017 triwap">https://www.agenda.ad/activitat/andorra-la-ve
 lla/mes-cultura/saison-culturelle-2017 triwap</a><br/><br/>
 <br/><b>Organitza</b><br/>Ambaixada de França a Andorra</FO
 NT></BODY></HTML>
END:VEVENT
END:VCALENDAR